BEGIN:VCALENDAR
VERSION:2.0
PRODID:-//South Shore Peer Recovery - ECPv6.15.20//NONSGML v1.0//EN
CALSCALE:GREGORIAN
METHOD:PUBLISH
X-ORIGINAL-URL:https://southshorepeerrecovery.org
X-WR-CALDESC:Events for South Shore Peer Recovery
REFRESH-INTERVAL;VALUE=DURATION:PT1H
X-Robots-Tag:noindex
X-PUBLISHED-TTL:PT1H
BEGIN:VTIMEZONE
TZID:America/New_York
BEGIN:DAYLIGHT
TZOFFSETFROM:-0500
TZOFFSETTO:-0400
TZNAME:EDT
DTSTART:20250309T070000
END:DAYLIGHT
BEGIN:STANDARD
TZOFFSETFROM:-0400
TZOFFSETTO:-0500
TZNAME:EST
DTSTART:20251102T060000
END:STANDARD
BEGIN:DAYLIGHT
TZOFFSETFROM:-0500
TZOFFSETTO:-0400
TZNAME:EDT
DTSTART:20260308T070000
END:DAYLIGHT
BEGIN:STANDARD
TZOFFSETFROM:-0400
TZOFFSETTO:-0500
TZNAME:EST
DTSTART:20261101T060000
END:STANDARD
BEGIN:DAYLIGHT
TZOFFSETFROM:-0500
TZOFFSETTO:-0400
TZNAME:EDT
DTSTART:20270314T070000
END:DAYLIGHT
BEGIN:STANDARD
TZOFFSETFROM:-0400
TZOFFSETTO:-0500
TZNAME:EST
DTSTART:20271107T060000
END:STANDARD
END:VTIMEZONE
BEGIN:VEVENT
DTSTART;TZID=America/New_York:20260430T070000
DTEND;TZID=America/New_York:20260430T080000
DTSTAMP:20260425T130043
CREATED:20231229T194832Z
LAST-MODIFIED:20231229T194927Z
UID:10008190-1777532400-1777536000@southshorepeerrecovery.org
SUMMARY:Wake up and Walk
DESCRIPTION:Join our volunteers and community for a walk from the SSPR drop in center to the Scituate Lighthouse and back
URL:https://southshorepeerrecovery.org/event/wake-up-and-walk-4/2026-04-30/
LOCATION:South Shore Peer Recovery\, 51 Cole Parkway\, Scituate\, MA\, 02066\, United States
CATEGORIES:Drop-in
END:VEVENT
BEGIN:VEVENT
DTSTART;TZID=America/New_York:20260430T130000
DTEND;TZID=America/New_York:20260430T150000
DTSTAMP:20260425T130043
CREATED:20250313T202048Z
LAST-MODIFIED:20250313T202050Z
UID:10008968-1777554000-1777561200@southshorepeerrecovery.org
SUMMARY:Creative Community
DESCRIPTION:Peer drop in group for community interaction and creative expression to support recovery. Supplies\, prompts and inspiration provided. Guest instructors and artists regularly participate to facilitate guided workshops on different forms of art.
URL:https://southshorepeerrecovery.org/event/creative-community-5/2026-04-30/
LOCATION:South Shore Peer Recovery\, 51 Cole Parkway\, Scituate\, MA\, 02066\, United States
CATEGORIES:Creative Community,Drop-in
END:VEVENT
END:VCALENDAR