BEGIN:VCALENDAR
VERSION:2.0
PRODID:-//South Shore Peer Recovery - ECPv6.15.17.1//NONSGML v1.0//EN
CALSCALE:GREGORIAN
METHOD:PUBLISH
X-WR-CALNAME:South Shore Peer Recovery
X-ORIGINAL-URL:https://southshorepeerrecovery.org
X-WR-CALDESC:Events for South Shore Peer Recovery
REFRESH-INTERVAL;VALUE=DURATION:PT1H
X-Robots-Tag:noindex
X-PUBLISHED-TTL:PT1H
BEGIN:VTIMEZONE
TZID:America/New_York
BEGIN:DAYLIGHT
TZOFFSETFROM:-0500
TZOFFSETTO:-0400
TZNAME:EDT
DTSTART:20190310T070000
END:DAYLIGHT
BEGIN:STANDARD
TZOFFSETFROM:-0400
TZOFFSETTO:-0500
TZNAME:EST
DTSTART:20191103T060000
END:STANDARD
BEGIN:DAYLIGHT
TZOFFSETFROM:-0500
TZOFFSETTO:-0400
TZNAME:EDT
DTSTART:20200308T070000
END:DAYLIGHT
BEGIN:STANDARD
TZOFFSETFROM:-0400
TZOFFSETTO:-0500
TZNAME:EST
DTSTART:20201101T060000
END:STANDARD
BEGIN:DAYLIGHT
TZOFFSETFROM:-0500
TZOFFSETTO:-0400
TZNAME:EDT
DTSTART:20210314T070000
END:DAYLIGHT
BEGIN:STANDARD
TZOFFSETFROM:-0400
TZOFFSETTO:-0500
TZNAME:EST
DTSTART:20211107T060000
END:STANDARD
BEGIN:DAYLIGHT
TZOFFSETFROM:-0500
TZOFFSETTO:-0400
TZNAME:EDT
DTSTART:20220313T070000
END:DAYLIGHT
BEGIN:STANDARD
TZOFFSETFROM:-0400
TZOFFSETTO:-0500
TZNAME:EST
DTSTART:20221106T060000
END:STANDARD
BEGIN:DAYLIGHT
TZOFFSETFROM:-0500
TZOFFSETTO:-0400
TZNAME:EDT
DTSTART:20230312T070000
END:DAYLIGHT
BEGIN:STANDARD
TZOFFSETFROM:-0400
TZOFFSETTO:-0500
TZNAME:EST
DTSTART:20231105T060000
END:STANDARD
BEGIN:DAYLIGHT
TZOFFSETFROM:-0500
TZOFFSETTO:-0400
TZNAME:EDT
DTSTART:20240310T070000
END:DAYLIGHT
BEGIN:STANDARD
TZOFFSETFROM:-0400
TZOFFSETTO:-0500
TZNAME:EST
DTSTART:20241103T060000
END:STANDARD
BEGIN:DAYLIGHT
TZOFFSETFROM:-0500
TZOFFSETTO:-0400
TZNAME:EDT
DTSTART:20250309T070000
END:DAYLIGHT
BEGIN:STANDARD
TZOFFSETFROM:-0400
TZOFFSETTO:-0500
TZNAME:EST
DTSTART:20251102T060000
END:STANDARD
END:VTIMEZONE
BEGIN:VEVENT
DTSTART;TZID=America/New_York:20241009T180000
DTEND;TZID=America/New_York:20241009T190000
DTSTAMP:20260421T071004
CREATED:20231023T164605Z
LAST-MODIFIED:20231023T164731Z
UID:10006710-1728496800-1728500400@southshorepeerrecovery.org
SUMMARY:Recovery Acupuncture
DESCRIPTION:The group protocol of the National Acupuncture Detoxification Association (NADA) is used to alleviate symptoms of post-acute withdrawal syndrome\, anxiety\, sleeplessness\, and to support ongoing recovery management. Full treatment takes about 45 minutes. Licensed Acupuncturist\, Kathy Duggan\, has many years experience and has been providing this opportunity for South Shore Peer Recovery since 2015.   Offered Wednesday evenings at 6:00pm the Center.
URL:https://southshorepeerrecovery.org/event/recovery-acupuncture-2/2024-10-09/
LOCATION:South Shore Peer Recovery\, 51 Cole Parkway\, Scituate\, MA\, 02066\, United States
CATEGORIES:Acupuncture,Drop-in
END:VEVENT
BEGIN:VEVENT
DTSTART;TZID=America/New_York:20240714T153000
DTEND;TZID=America/New_York:20240714T170000
DTSTAMP:20260421T071004
CREATED:20240702T163249Z
LAST-MODIFIED:20240702T163405Z
UID:10008910-1720971000-1720976400@southshorepeerrecovery.org
SUMMARY:SSPR Family Field Day
DESCRIPTION:Join us Sunday July 14th from 3:30-5:30pm for a SSPR Sober Family Field Day!! \n\n\n\nWe will be at Central Softball Field #1\, 63-69 Branch Street\, Scituate\, MA (Lawson Tower) and will kick off the fun following the SSPR Sober Softball Game at 1pm. Feel free to join us for a full day of community!!!! Family friendly\, all are welcome! \n\n\n\nA big thank you to our Social Activity Committee for planning this great day!
URL:https://southshorepeerrecovery.org/event/sspr-family-field-day/
LOCATION:Central Softball Field #1\, 63-69 Branch Street\, Scituate\, MA (Lawson Tower)
END:VEVENT
BEGIN:VEVENT
DTSTART;TZID=America/New_York:20240630T153000
DTEND;TZID=America/New_York:20240630T173000
DTSTAMP:20260421T071004
CREATED:20240618T162527Z
LAST-MODIFIED:20240618T162528Z
UID:10008909-1719761400-1719768600@southshorepeerrecovery.org
SUMMARY:Field Day
DESCRIPTION:Join us Sunday June 30th from 3:30-5:30pm for a SSPR Sober Family Field Day!! \n\n\n\nWe will be at Central Softball Field #1\, 63-69 Branch Street\, Scituate\, MA (Lawson Tower) and will kick off the fun following the SSPR Sober Softball Game at 1pm. Feel free to join us for a full day of community!!!! Family friendly\, all are welcome! \n\n\n\nA big thank you to our Social Activity Committee for planning this great day!
URL:https://southshorepeerrecovery.org/event/field-day/
LOCATION:Central Softball Field #1\, 63-69 Branch Street\, Scituate\, MA (Lawson Tower)
END:VEVENT
BEGIN:VEVENT
DTSTART;TZID=America/New_York:20240626T013000
DTEND;TZID=America/New_York:20240626T150000
DTSTAMP:20260421T071004
CREATED:20240624T174500Z
LAST-MODIFIED:20240624T174501Z
UID:10008908-1719365400-1719414000@southshorepeerrecovery.org
SUMMARY:Reflexology
DESCRIPTION:All are welcome to join us for Reflexology on Wednesday June 26th at 1:30-3pm with Analee Kinninger. Reflexology is a practice involving the pressure to specific points on the feet.
URL:https://southshorepeerrecovery.org/event/reflexology/2024-06-26/
LOCATION:MA
END:VEVENT
BEGIN:VEVENT
DTSTART;TZID=America/New_York:20240621T130000
DTEND;TZID=America/New_York:20240621T140000
DTSTAMP:20260421T071004
CREATED:20231211T175723Z
LAST-MODIFIED:20240618T160232Z
UID:10006001-1718974800-1718978400@southshorepeerrecovery.org
SUMMARY:Spiritual Warriors (Virtual)
DESCRIPTION:This peer facilitated discussion group explores the principles of spirituality through the Life Recovery Bible and the twelve steps. Virtual Group. Zoom Only: https://zoom.us/j/194335786 PSW:sspr
URL:https://southshorepeerrecovery.org/event/spiritual-warriors-2/2024-06-21/
LOCATION:South Shore Peer Recovery\, 51 Cole Parkway\, Scituate\, MA\, 02066\, United States
CATEGORIES:Drop-in,Virtual
END:VEVENT
BEGIN:VEVENT
DTSTART;TZID=America/New_York:20240614T183000
DTEND;TZID=America/New_York:20240614T200000
DTSTAMP:20260421T071004
CREATED:20240408T154453Z
LAST-MODIFIED:20240408T154454Z
UID:10008597-1718389800-1718395200@southshorepeerrecovery.org
SUMMARY:C.R.A.F.T. Group
DESCRIPTION:Pre-registration is required. \n\n\n\nVisit: Community Reinforcement & Family Training (CRAFT) – South Shore Peer Recovery to register for group.
URL:https://southshorepeerrecovery.org/event/c-r-a-f-t-group/2024-06-14/
LOCATION:MA
END:VEVENT
BEGIN:VEVENT
DTSTART;TZID=America/New_York:20240528T170000
DTEND;TZID=America/New_York:20240528T180000
DTSTAMP:20260421T071004
CREATED:20240528T144615Z
LAST-MODIFIED:20240528T144616Z
UID:10008841-1716915600-1716919200@southshorepeerrecovery.org
SUMMARY:Community Meeting
DESCRIPTION:All are Welcome\, individuals in recovery\, family\, friends\, allies & community members. \n\n\n\nSSPR membership\, Update on community committees\, Update on Weymouth PRSC\, Group Ideas\, questions and comments.
URL:https://southshorepeerrecovery.org/event/community-meeting/2024-05-28/
LOCATION:MA
END:VEVENT
BEGIN:VEVENT
DTSTART;TZID=America/New_York:20231225T183000
DTEND;TZID=America/New_York:20231225T193000
DTSTAMP:20260421T071004
CREATED:20231211T175915Z
LAST-MODIFIED:20231211T175916Z
UID:10006512-1703529000-1703532600@southshorepeerrecovery.org
SUMMARY:CANCELLED: Faith Finders on Main
DESCRIPTION:In Person and Remote. \n\n\n\nJoin Zoom meeting online by clicking this link on your phone or computer: https://zoom.us/j/99434370418 \n\n\n\nMeeting ID: 994 3437 0418.  PW: sspr.  Or dial in at (929) 205-6099. \n\n\n\nFaith Finders Discussion Group – South Shore Peer Recovery
URL:https://southshorepeerrecovery.org/event/faith-finders-on-main/
LOCATION:South Shore Peer Recovery\, 51 Cole Parkway\, Scituate\, MA\, 02066\, United States
CATEGORIES:Drop-in,Faith Finders Discussion Group,Virtual
END:VEVENT
BEGIN:VEVENT
DTSTART;TZID=America/New_York:20231212T170000
DTEND;TZID=America/New_York:20231212T190000
DTSTAMP:20260421T071004
CREATED:20231211T175546Z
LAST-MODIFIED:20231211T175547Z
UID:10007102-1702400400-1702407600@southshorepeerrecovery.org
SUMMARY:Holiday Give Back Party
DESCRIPTION:South Shore Peer Recovery invites you to join us in our Family Friendly Holiday Give Back Party on Tuesday\, December 12th between 5:00-7:00 PM for cookies\, cocoa and holiday celebration. \n\n\n\nOur gifts will benefit women engaged in the Grayken Center SHORE program which provides care for pregnant and postpartum women recovering from substance use disorders (SUD). With your help\, we will be granting wishes for a special group of women in recovery who have newborns or are expecting a little one. ﻿We will also contribute to South Shore Recovery Home\, a men’s halfway house in Quincy. Please bring donations new\, unwrapped and in original packaging to the Holiday Party.
URL:https://southshorepeerrecovery.org/event/holiday-give-back-party/
LOCATION:South Shore Peer Recovery\, 51 Cole Parkway\, Scituate\, MA\, 02066\, United States
END:VEVENT
BEGIN:VEVENT
DTSTART;TZID=America/New_York:20230908T173000
DTEND;TZID=America/New_York:20230908T213000
DTSTAMP:20260421T071004
CREATED:20230829T180854Z
LAST-MODIFIED:20230829T180855Z
UID:10007101-1694194200-1694208600@southshorepeerrecovery.org
SUMMARY:Recovery Rocks
DESCRIPTION:Recovery Rocks is our major annual fundraiser that brings together individuals and families in recovery\, local musicians and the community to support our amazing cause. A night of hope\, community\, connection and fun\, Recovery Rocks has grown into a celebration of recovery. 
URL:https://southshorepeerrecovery.org/event/recovery-rocks-3/
LOCATION:Salt River Farm\, 857 Union St\, Marshfield\, MA\, 02050
END:VEVENT
BEGIN:VEVENT
DTSTART;TZID=America/New_York:20230831T053000
DTEND;TZID=America/New_York:20230831T061500
DTSTAMP:20260421T071004
CREATED:20230829T180620Z
LAST-MODIFIED:20230829T181047Z
UID:10007100-1693459800-1693462500@southshorepeerrecovery.org
SUMMARY:Sunrise Vigil - Peggotty Beach
DESCRIPTION:The Town of Scituate\, Scituate FACTS Coalition\, and South Shore Peer Recovery announce a service on International Overdose Awareness Day\, Thursday\, August 31\, 2023. The Scituate service is open to all communities and will acknowledge police officers\, firefighters\, emergency room workers\, individuals in recovery\, and members of the community groups who have been working to reduce fatal overdoses and help those who still suffer.
URL:https://southshorepeerrecovery.org/event/sunrise-vigil/
LOCATION:Peggotty Beach\, Scituate\, Massachussetts\, 02066
END:VEVENT
BEGIN:VEVENT
DTSTART;TZID=America/New_York:20230602T180000
DTEND;TZID=America/New_York:20230602T193000
DTSTAMP:20260421T071004
CREATED:20230221T162210Z
LAST-MODIFIED:20230221T162618Z
UID:10006999-1685728800-1685734200@southshorepeerrecovery.org
SUMMARY:SOMA Breathwork Workshop
DESCRIPTION:Join us at SSPR for a SOMA breathwork workshop followed by tea and community time. \n\n\n\nThe Energized Meditation Routine is designed to release tension from the body\, boost your mood\, and be a super-effective breathwork meditation. \n\n\n\nSome Benefits of breathwork include decreased stress\, decrease in anxiety and depression\, balances two sides of the autonomic nervous system\, creates better circulation and blood flow\, boosts immune\, cardiovascular and respiratory system\, creates smooth digestion\, boosts energy and mood levels\, generates peace. \n\n\n\nGratitude and high vibrational energy are key components to the energized meditation workshop. The workshop will include a warmup (whole brain activation\, dance and movement)\, AUM chanting\, releasing tension in the face\, breathwork and final meditation. SOMA™Music will be used to guide and enhance your experience. Benefits include improved overall feeling of well-being\, increased energy and stamina.  \n\n\n\nThe workshop is facilitated by Joy Kingsbury MS OTR/L\, RYT-200\, Level 1 Certified Soma™ Breath Instructor. Joy is an occupational therapist who has facilitated yoga and meditation classes for 15 years. She is also a grateful person in recovery.
URL:https://southshorepeerrecovery.org/event/soma-breathwork-workshop/2023-06-02/
LOCATION:South Shore Peer Recovery\, 51 Cole Parkway\, Scituate\, MA\, 02066\, United States
END:VEVENT
BEGIN:VEVENT
DTSTART;TZID=America/New_York:20230415T183000
DTEND;TZID=America/New_York:20230415T220000
DTSTAMP:20260421T071004
CREATED:20230324T152827Z
LAST-MODIFIED:20230324T152828Z
UID:10007016-1681583400-1681596000@southshorepeerrecovery.org
SUMMARY:Comics for a Cause
DESCRIPTION:Join us for a night of comedy\, food and fellowship! We are excited to announce the return of our Comics for a Cause show. Supported by our amazing community partners at GROW Inspired Women & East Coast Recovery\, proceeds from the event will benefit South Shore Peer Recovery. \n\n\n\nWe are excited to announce that GROW Inspired Women\, a local nonprofit organization\, have made a donation to create a scholarship in support of women in recovery. \n\n\n\nThis scholarship is a collaboration with GROW Inspired Women\, East Coast Recovery and South Shore Peer Recovery. All donations and the 50/50 raffle will directly support this scholarship fund. \n\n\n\nDoors open @ 6:30PM for dinner courtesy of Caffe Tosca on Hingham Harbor. The show starts at 7:30PM! \n\n\n\nComedians: Laurie Ferreira\, Nikki MacCallum\, Michael Thomas Geary & Jimmy Ryan. \n\n\n\nMusic by: Step Brothers Band \n\n\n\nGROW is a nonprofit organization operated by a small\, but powerful network of fierce females who are determined to help women achieve true happiness and prosper by excelling in both business and in life.
URL:https://southshorepeerrecovery.org/event/comics-for-a-cause/
LOCATION:St. Anthony of Padua\, 10 Summer Street\, Cohasset\, Massachusetts\, 02025
END:VEVENT
BEGIN:VEVENT
DTSTART;TZID=America/New_York:20230325T083000
DTEND;TZID=America/New_York:20230325T093000
DTSTAMP:20260421T071004
CREATED:20230221T205306Z
LAST-MODIFIED:20230228T155810Z
UID:10007015-1679733000-1679736600@southshorepeerrecovery.org
SUMMARY:Mindful Meditation Series
DESCRIPTION:Mindful meditation practices will be explored and new and seasoned practitioners are welcome. This class will offer gentle movement that feels good for the body and soul and will integrate breathing practices to ready the body for meditation. This class is facilitated by Joy Kingsbury\, MS OTR/L\, RYT-200. She has been guiding meditations within the recovery community for over 10 years and at South Shore Peer Recovery since 2014. \n\n\n\nThis is a 4-week series that goes from March 4th to March 25th
URL:https://southshorepeerrecovery.org/event/mindful-meditation-series/2023-03-25/
LOCATION:South Shore Peer Recovery\, 51 Cole Parkway\, Scituate\, MA\, 02066\, United States
CATEGORIES:Mindful Meditation
END:VEVENT
BEGIN:VEVENT
DTSTART;TZID=America/New_York:20221012T120000
DTEND;TZID=America/New_York:20221012T133000
DTSTAMP:20260421T071004
CREATED:20221017T143430Z
LAST-MODIFIED:20221017T143431Z
UID:10006608-1665576000-1665581400@southshorepeerrecovery.org
SUMMARY:AA: South Shore Group
DESCRIPTION:
URL:https://southshorepeerrecovery.org/event/aa-south-shore-group-3/2022-10-12/
LOCATION:South Shore Peer Recovery\, 51 Cole Parkway\, Scituate\, MA\, 02066\, United States
CATEGORIES:Alcoholics Anonymous,Drop-in,Virtual
END:VEVENT
BEGIN:VEVENT
DTSTART;TZID=America/New_York:20220925T130000
DTEND;TZID=America/New_York:20220925T160000
DTSTAMP:20260421T071004
CREATED:20220818T155115Z
LAST-MODIFIED:20221017T143742Z
UID:10005798-1664110800-1664121600@southshorepeerrecovery.org
SUMMARY:Sober Softball
DESCRIPTION:SSPR Sober Softball League Season 5. Play every Sunday\, 1:00-4:00 p.m. June\, July\, August\, September & October at Central Softball Field #1\, 63-69 Branch Street\, Scituate\, MA (Lawson Tower) Be part of the team\, co-ed\, slow pitch. A great way to spend your Sundays with Family\, Fellowship & Friends.
URL:https://southshorepeerrecovery.org/event/sober-softball-2/2022-09-25/
LOCATION:63 Branch St\, Scituate MA\, 63 Branch St\, Scituate\, MA\, 02066\, United States
CATEGORIES:Drop-in,Sober Softball
END:VEVENT
BEGIN:VEVENT
DTSTART;TZID=America/New_York:20220909T180000
DTEND;TZID=America/New_York:20220909T220000
DTSTAMP:20260421T071004
CREATED:20220818T160244Z
LAST-MODIFIED:20220818T160548Z
UID:10005799-1662746400-1662760800@southshorepeerrecovery.org
SUMMARY:Recovery Rocks 2022!
DESCRIPTION:Recovery Rocks is our major annual fundraiser that brings together individuals and families in recovery\, local musicians and the community to support our amazing cause. A night of hope\, community\, connection and fun\, Recovery Rocks has grown into a celebration of recovery. From humble beginnings this event has grown annually to include more than 500 guests. \n\n\n\nMore than half of our annual budget is dependent on fundraising and Recovery Rocks meets 80 percent of that need – all dollars raised go directly to adding recovery supports at SSPR. We are working to continually expand our offerings and reach more communities. \n\n\n\nDespite the rain\, last year was an amazing success at a beautiful new location. We look forward to bringing the celebration back to the Salt River Farm in Marshfield on Friday September 9th! \n\n\n\nFor more information and sponsorship opportunities please visit Recovery Rocks! – South Shore Peer Recovery
URL:https://southshorepeerrecovery.org/event/recovery-rocks-2022/
LOCATION:Salt River Farm\, 857 Union St\, Marshfield\, MA\, 02050
END:VEVENT
BEGIN:VEVENT
DTSTART;TZID=America/New_York:20220504T190000
DTEND;TZID=America/New_York:20220504T203000
DTSTAMP:20260421T071004
CREATED:20210222T215159Z
LAST-MODIFIED:20220316T183809Z
UID:10004884-1651690800-1651696200@southshorepeerrecovery.org
SUMMARY:Searenity Recovery Group
DESCRIPTION:
URL:https://southshorepeerrecovery.org/event/sea-renity-recovery-group-2022-02-23-2022-02-23/2022-05-04/
LOCATION:SHBC\, 44 Jericho Rd.\, Scituate\, MA\, 02066\, United States
CATEGORIES:Drop-in
END:VEVENT
BEGIN:VEVENT
DTSTART;TZID=America/New_York:20220226T100000
DTEND;TZID=America/New_York:20220226T113000
DTSTAMP:20260421T071004
CREATED:20220106T162801Z
LAST-MODIFIED:20220106T162801Z
UID:10005655-1645869600-1645875000@southshorepeerrecovery.org
SUMMARY:CRAFT Family Skills Group
DESCRIPTION:Pre-Registration required. The CRAFT Skills Group teaches communication skills and strategies in a small group setting.  \n\n\n\n \n\n\n\nCommunity Reinforcement & Family Training (CRAFT) – South Shore Peer Recovery
URL:https://southshorepeerrecovery.org/event/craft-family-skills-group/2022-02-26/
LOCATION:South Shore Peer Recovery\, 51 Cole Parkway\, Scituate\, MA\, 02066\, United States
END:VEVENT
BEGIN:VEVENT
DTSTART;TZID=America/New_York:20220223T190000
DTEND;TZID=America/New_York:20220223T200000
DTSTAMP:20260421T071004
CREATED:20210222T215159Z
LAST-MODIFIED:20210721T183036Z
UID:10004873-1645642800-1645646400@southshorepeerrecovery.org
SUMMARY:Sea-Renity Recovery Group
DESCRIPTION:
URL:https://southshorepeerrecovery.org/event/sea-renity-recovery-group/2022-02-23/
LOCATION:SHBC\, 44 Jericho Rd.\, Scituate\, MA\, 02066\, United States
CATEGORIES:Drop-in,Searenity
END:VEVENT
BEGIN:VEVENT
DTSTART;TZID=America/New_York:20210909T180000
DTEND;TZID=America/New_York:20210909T220000
DTSTAMP:20260421T071004
CREATED:20210827T170322Z
LAST-MODIFIED:20210827T170322Z
UID:10005377-1631210400-1631224800@southshorepeerrecovery.org
SUMMARY:Recovery Rocks
DESCRIPTION:Recovery Rocks 2021\nThursday\, September 9th 6-10PM\nSalt River Farm\, 857 Union St. Marshfield MA 02050\nParking is available. Night of details will be provided the week prior to the event! \nTickets are limited\, purchase below. \nWhat’s included in your ticket? \nMusic: Join our returning friends\, Border Road\, and our new edition\, Neighbor\, for an amazing night of live music on the South Shore! \nFood and beverages: A variety of food and beverage options will be available from our local vendors: Montilio’s\, Mullaney’s Fish Market\, Stars on Hingham Harbor & Nona’s Homemade Ice Cream. \nT Shirts: Our signature Recovery Rocks T Shirt is included with the purchase of your ticket!
URL:https://southshorepeerrecovery.org/event/recovery-rocks-2/
LOCATION:Salt River Farm\, 857 Union St\, Marshfield\, MA\, 02050
END:VEVENT
BEGIN:VEVENT
DTSTART;TZID=America/New_York:20210831T054500
DTEND;TZID=America/New_York:20210831T061500
DTSTAMP:20260421T071004
CREATED:20210827T170130Z
LAST-MODIFIED:20210827T170400Z
UID:10005376-1630388700-1630390500@southshorepeerrecovery.org
SUMMARY:Overdose Awareness Vigil
DESCRIPTION:The Town of Scituate\, Scituate FACTS Coalition\, and South Shore Peer Recovery announce a service on International Overdose Awareness Day\, Tuesday\, August 31\, 2021 at 5:45am at the Old Scituate Lighthouse.\n\nThe Scituate service is open to all communities and will acknowledge police officers\, firefighters\, emergency room workers\, individuals in recovery\, and members of the community groups who have been working to reduce fatal overdoses and help those who still suffer.\n\nThe non-sectarian service will begin at 5:45am on the jetty\, and will include words of remembrance from family members\, and acoustic music performed by local musicians. Information on grief support\, Narcan access\, as well as substance use treatment and recovery resources\, will be available before and after the service in the resource tent in the parking lot.\n\n**If you would like to participate in the service or volunteer at the event\, please contact Jane Wasel at SSPR. jwasel@southshorepeerrecovery.org **\n\nOverdose Awareness Vigil\nTuesday\, August 31\, 2021\n5:45 – 6:15am\n100 Lighthouse Road\, Scituate Harbor\, MA 02066\nService will begin at 5:45am on the walkway and jetty area around the lighthouse.
URL:https://southshorepeerrecovery.org/event/overdose-awareness-vigil/
LOCATION:Old Scituate Lighthouse\, 100 Lighthouse Rd\, Scituate\, MA\, 02066
END:VEVENT
BEGIN:VEVENT
DTSTART;TZID=America/New_York:20210603T073000
DTEND;TZID=America/New_York:20210603T081500
DTSTAMP:20260421T071004
CREATED:20200917T165416Z
LAST-MODIFIED:20210603T193514Z
UID:10004636-1622705400-1622708100@southshorepeerrecovery.org
SUMMARY:Recovery Rising
DESCRIPTION:Currently: Remote Group Only\n\nhttps://zoom.us/j/91765076257\nMeeting ID: 917 6507 6257\nPasscode: sspr
URL:https://southshorepeerrecovery.org/event/recoveryrising-2021-06-03/2021-06-03/
LOCATION:Zoom
CATEGORIES:Drop-in,Virtual
END:VEVENT
BEGIN:VEVENT
DTSTART;TZID=America/New_York:20210501T090000
DTEND;TZID=America/New_York:20210501T113000
DTSTAMP:20260421T071004
CREATED:20210420T181726Z
LAST-MODIFIED:20210420T182636Z
UID:10005119-1619859600-1619868600@southshorepeerrecovery.org
SUMMARY:Ship Shape Day
DESCRIPTION:Join us Saturday\, May 1st @ 9AM for clean-up\, coffee and community! \nWe will be participating in Ship Shape Day by cleaning the SSPR parking lot. Meet up at SSPR at 9AM. \n \n 
URL:https://southshorepeerrecovery.org/event/ship-shape-day/
LOCATION:South Shore Peer Recovery\, 51 Cole Parkway\, Scituate\, MA\, 02066\, United States
END:VEVENT
BEGIN:VEVENT
DTSTART;TZID=America/New_York:20210426T190000
DTEND;TZID=America/New_York:20210426T200000
DTSTAMP:20260421T071004
CREATED:20221017T143006Z
LAST-MODIFIED:20221017T143122Z
UID:10006607-1619463600-1619467200@southshorepeerrecovery.org
SUMMARY:Mindful Meditation
DESCRIPTION:Click this link to join the evening ZOOM Meeting: \n\n\n\nhttps://zoom.us/j/317206426 \n\n\n\nOr call in: \n\n\n\n(929) 205-6099 \n\n\n\nMeeting ID: 317 206 426  PSW: sspr
URL:https://southshorepeerrecovery.org/event/mindful-meditation-2/2021-04-26/
LOCATION:South Shore Peer Recovery\, 51 Cole Parkway\, Scituate\, MA\, 02066\, United States
CATEGORIES:Drop-in,Mindful Meditation,Virtual
END:VEVENT
BEGIN:VEVENT
DTSTART;TZID=America/New_York:20201108T160000
DTEND;TZID=America/New_York:20201108T173000
DTSTAMP:20260421T071004
CREATED:20200810T144851Z
LAST-MODIFIED:20200810T144851Z
UID:10004560-1604851200-1604856600@southshorepeerrecovery.org
SUMMARY:CRAFT Skills Group 8
DESCRIPTION:
URL:https://southshorepeerrecovery.org/event/craft-skills-group-8/2020-11-08/
LOCATION:South Shore Peer Recovery\, 51 Cole Parkway\, Scituate\, MA\, 02066\, United States
CATEGORIES:CRAFT Skills Group,Pre-registration required
END:VEVENT
BEGIN:VEVENT
DTSTART;TZID=America/New_York:20200928T073000
DTEND;TZID=America/New_York:20200928T081500
DTSTAMP:20260421T071004
CREATED:20200917T165416Z
LAST-MODIFIED:20210224T190353Z
UID:10004635-1601278200-1601280900@southshorepeerrecovery.org
SUMMARY:Recovery Rising
DESCRIPTION:Currently: Remote Group Only\n\nhttps://zoom.us/j/91765076257\nMeeting ID: 917 6507 6257\nPasscode: sspr
URL:https://southshorepeerrecovery.org/event/recoveryrising/2020-09-28/
LOCATION:Zoom
CATEGORIES:Drop-in,Virtual
END:VEVENT
BEGIN:VEVENT
DTSTART;VALUE=DATE:20200926
DTEND;VALUE=DATE:20200927
DTSTAMP:20260421T071004
CREATED:20200828T192110Z
LAST-MODIFIED:20200910T145458Z
UID:10004634-1601078400-1601164799@southshorepeerrecovery.org
SUMMARY:Recovery Walks!
DESCRIPTION:Click here to create a team\, join a team or make a donation and watch for details about suggested routes! \nResource Packet
URL:https://southshorepeerrecovery.org/event/recovery-walks/2020-09-26/
LOCATION:South Shore Peer Recovery\, 51 Cole Parkway\, Scituate\, MA\, 02066\, United States
CATEGORIES:Special Events,Virtual
ATTACH;FMTTYPE=image/jpeg:https://southshorepeerrecovery.org/wp-content/uploads/2020/08/SSPR-recovery-walks-logo-72dpi-web.jpg
END:VEVENT
BEGIN:VEVENT
DTSTART;TZID=America/New_York:20200831T054500
DTEND;TZID=America/New_York:20200831T063000
DTSTAMP:20260421T071004
CREATED:20200828T183701Z
LAST-MODIFIED:20200828T183701Z
UID:10004627-1598852700-1598855400@southshorepeerrecovery.org
SUMMARY:Overdose Awareness Sunrise Vigil
DESCRIPTION:The Town of Scituate\, Scituate FACTS Coalition\, and South Shore Peer Recovery welcome all to a service on International Overdose Awareness Day\, Monday\, August 31\, 2020 at 5:45am at the Old Scituate Lighthouse\, 100 Lighthouse Road\, Scituate Harbor.\n\nThe Scituate service will acknowledge police officers\, firefighters\, emergency room workers\, treatment providers\, individuals in recovery\, and members of the community groups who have been working to reduce fatal overdoses and help those who still suffer.\n\nAll communities are welcome\, as we remember together. Information on grief support\, Narcan access\, as well as treatment and recovery resources\, will be available before and after the service in the resource tent in the parking lot. Rain or shine.\n\n\nFree and confidential Narcan is available to potential bystanders from Manet Community Health. Outreach specialist Kelsey Foley will be available immediately after the service to provide life saving info and medication. If you prefer to meet back at the recovery center\, Narcan will be available there from about 6:45-7:30am. People in recovery\, family members\, and any potential bystanders are welcome.\n\nHow to get Narcan\nhttps://static1.squarespace.com/static/5cf0158fcfd6f10001358f86/t/5d711aa3bc4c7b0001ce5eaf/1567693475885/SF_Narcan.pdf\n\nGrief and Loss Support Groups\nhttps://static1.squarespace.com/static/5cf0158fcfd6f10001358f86/t/5d66e8c334315000018aeecf/1567025347583/GriefLossSupport.SS.pdf
URL:https://southshorepeerrecovery.org/event/overdose-awareness-sunrise-vigil/
LOCATION:South Shore Peer Recovery\, 51 Cole Parkway\, Scituate\, MA\, 02066\, United States
CATEGORIES:Drop-in,Special Events
END:VEVENT
BEGIN:VEVENT
DTSTART;TZID=America/New_York:20200825T180000
DTEND;TZID=America/New_York:20200825T220000
DTSTAMP:20260421T071004
CREATED:20191206T200728Z
LAST-MODIFIED:20191220T162102Z
UID:10003981-1598378400-1598392800@southshorepeerrecovery.org
SUMMARY:Recovery Rocks
DESCRIPTION:Find more information about attending Recovery Rocks
URL:https://southshorepeerrecovery.org/event/recovery-rocks/
LOCATION:South Shore Peer Recovery\, 51 Cole Parkway\, Scituate\, MA\, 02066\, United States
CATEGORIES:Special Events
ATTACH;FMTTYPE=image/jpeg:https://southshorepeerrecovery.org/wp-content/uploads/2019/12/60535616_2457759930909790_6352390973066051584_o.jpg
END:VEVENT
END:VCALENDAR