BEGIN:VCALENDAR
VERSION:2.0
PRODID:-//South Shore Peer Recovery - ECPv6.15.20//NONSGML v1.0//EN
CALSCALE:GREGORIAN
METHOD:PUBLISH
X-ORIGINAL-URL:https://southshorepeerrecovery.org
X-WR-CALDESC:Events for South Shore Peer Recovery
REFRESH-INTERVAL;VALUE=DURATION:PT1H
X-Robots-Tag:noindex
X-PUBLISHED-TTL:PT1H
BEGIN:VTIMEZONE
TZID:America/New_York
BEGIN:DAYLIGHT
TZOFFSETFROM:-0500
TZOFFSETTO:-0400
TZNAME:EDT
DTSTART:20240310T070000
END:DAYLIGHT
BEGIN:STANDARD
TZOFFSETFROM:-0400
TZOFFSETTO:-0500
TZNAME:EST
DTSTART:20241103T060000
END:STANDARD
BEGIN:DAYLIGHT
TZOFFSETFROM:-0500
TZOFFSETTO:-0400
TZNAME:EDT
DTSTART:20250309T070000
END:DAYLIGHT
BEGIN:STANDARD
TZOFFSETFROM:-0400
TZOFFSETTO:-0500
TZNAME:EST
DTSTART:20251102T060000
END:STANDARD
BEGIN:DAYLIGHT
TZOFFSETFROM:-0500
TZOFFSETTO:-0400
TZNAME:EDT
DTSTART:20260308T070000
END:DAYLIGHT
BEGIN:STANDARD
TZOFFSETFROM:-0400
TZOFFSETTO:-0500
TZNAME:EST
DTSTART:20261101T060000
END:STANDARD
END:VTIMEZONE
BEGIN:VEVENT
DTSTART;TZID=America/New_York:20250901T193000
DTEND;TZID=America/New_York:20250901T203000
DTSTAMP:20260425T223139
CREATED:20231229T194533Z
LAST-MODIFIED:20260205T205220Z
UID:10007634-1756755000-1756758600@southshorepeerrecovery.org
SUMMARY:AA: Scituate Young People
DESCRIPTION:Currently: In Person and Remote Group \n\n\n\nWelcome AABoston.org Central Service Committee of Eastern Mass. (Intergroup) \n\n\n\nAlcoholics Anonymous Meeting Information\n\n\n\nMonday\, 7:30 pm to 8:30 pm \n\n\n\n\n Discussion (D)\n\n\n\n Online Meeting\n\n\n\n Open (O)\n\n\n\n Speaker (S)\n\n\n\n Young People (YP)\n\n\n\n\nThis meeting is open and anyone may attend. \n\n\n\nJoin Zoom meeting online by clicking this link on your phone or computer \n\n\n\nhttps://zoom.us/j/99175276534 \n\n\n\nMeeting ID: 317 206 426. PW: sspr \n\n\n\nOr dial in at (929) 205-6099.
URL:https://southshorepeerrecovery.org/event/aa-scituate-young-people/2025-09-01/
LOCATION:South Shore Peer Recovery\, 51 Cole Parkway\, Scituate\, MA\, 02066\, United States
CATEGORIES:Alcoholics Anonymous,Drop-in,Virtual
END:VEVENT
BEGIN:VEVENT
DTSTART;TZID=America/New_York:20250902T100000
DTEND;TZID=America/New_York:20250902T110000
DTSTAMP:20260425T223139
CREATED:20231229T194646Z
LAST-MODIFIED:20231229T194747Z
UID:10007895-1756807200-1756810800@southshorepeerrecovery.org
SUMMARY:New Beginnings - Women's Book Discussion Group
DESCRIPTION:Currently: In Person & Online \n\n\n\nJoin Zoom meeting online by clicking this link on your phone or computer: https://zoom.us/j/194335786.  \n\n\n\nMeeting ID: 194 335 786.  PW: sspr.  \n\n\n\nOr dial in at (929) 205-6099. \n\n\n\nNew Beginnings – Women’s Book Discussion Group – South Shore Peer Recovery
URL:https://southshorepeerrecovery.org/event/new-beginnings-womens-book-discussion-group-3/2025-09-02/
LOCATION:South Shore Peer Recovery\, 51 Cole Parkway\, Scituate\, MA\, 02066\, United States
CATEGORIES:Drop-in,New Beginnings Women's Book Discussion,Virtual
END:VEVENT
BEGIN:VEVENT
DTSTART;TZID=America/New_York:20250902T190000
DTEND;TZID=America/New_York:20250902T200000
DTSTAMP:20260425T223139
CREATED:20221014T191535Z
LAST-MODIFIED:20221014T191545Z
UID:10008646-1756839600-1756843200@southshorepeerrecovery.org
SUMMARY:Refuge Recovery
DESCRIPTION:Click this link to join the evening ZOOM Meeting: \n\n\n\nhttps://zoom.us/j/317206426 \n\n\n\nOr call in: \n\n\n\n(929) 205-6099 \n\n\n\nMeeting ID: 317 206 426  PSW: sspr
URL:https://southshorepeerrecovery.org/event/refuge-recovery-2/2025-09-02/
LOCATION:South Shore Peer Recovery\, 51 Cole Parkway\, Scituate\, MA\, 02066\, United States
CATEGORIES:Drop-in,Refuge Recovery,Virtual
END:VEVENT
BEGIN:VEVENT
DTSTART;TZID=America/New_York:20250904T070000
DTEND;TZID=America/New_York:20250904T080000
DTSTAMP:20260425T223139
CREATED:20231229T194832Z
LAST-MODIFIED:20231229T194927Z
UID:10008156-1756969200-1756972800@southshorepeerrecovery.org
SUMMARY:Wake up and Walk
DESCRIPTION:Join our volunteers and community for a walk from the SSPR drop in center to the Scituate Lighthouse and back
URL:https://southshorepeerrecovery.org/event/wake-up-and-walk-4/2025-09-04/
LOCATION:South Shore Peer Recovery\, 51 Cole Parkway\, Scituate\, MA\, 02066\, United States
CATEGORIES:Drop-in
END:VEVENT
BEGIN:VEVENT
DTSTART;TZID=America/New_York:20250904T130000
DTEND;TZID=America/New_York:20250904T150000
DTSTAMP:20260425T223139
CREATED:20250313T202048Z
LAST-MODIFIED:20250313T202050Z
UID:10008934-1756990800-1756998000@southshorepeerrecovery.org
SUMMARY:Creative Community
DESCRIPTION:Peer drop in group for community interaction and creative expression to support recovery. Supplies\, prompts and inspiration provided. Guest instructors and artists regularly participate to facilitate guided workshops on different forms of art.
URL:https://southshorepeerrecovery.org/event/creative-community-5/2025-09-04/
LOCATION:South Shore Peer Recovery\, 51 Cole Parkway\, Scituate\, MA\, 02066\, United States
CATEGORIES:Creative Community,Drop-in
END:VEVENT
BEGIN:VEVENT
DTSTART;TZID=America/New_York:20250908T193000
DTEND;TZID=America/New_York:20250908T203000
DTSTAMP:20260425T223139
CREATED:20231229T194533Z
LAST-MODIFIED:20260205T205220Z
UID:10007635-1757359800-1757363400@southshorepeerrecovery.org
SUMMARY:AA: Scituate Young People
DESCRIPTION:Currently: In Person and Remote Group \n\n\n\nWelcome AABoston.org Central Service Committee of Eastern Mass. (Intergroup) \n\n\n\nAlcoholics Anonymous Meeting Information\n\n\n\nMonday\, 7:30 pm to 8:30 pm \n\n\n\n\n Discussion (D)\n\n\n\n Online Meeting\n\n\n\n Open (O)\n\n\n\n Speaker (S)\n\n\n\n Young People (YP)\n\n\n\n\nThis meeting is open and anyone may attend. \n\n\n\nJoin Zoom meeting online by clicking this link on your phone or computer \n\n\n\nhttps://zoom.us/j/99175276534 \n\n\n\nMeeting ID: 317 206 426. PW: sspr \n\n\n\nOr dial in at (929) 205-6099.
URL:https://southshorepeerrecovery.org/event/aa-scituate-young-people/2025-09-08/
LOCATION:South Shore Peer Recovery\, 51 Cole Parkway\, Scituate\, MA\, 02066\, United States
CATEGORIES:Alcoholics Anonymous,Drop-in,Virtual
END:VEVENT
BEGIN:VEVENT
DTSTART;TZID=America/New_York:20250909T100000
DTEND;TZID=America/New_York:20250909T110000
DTSTAMP:20260425T223139
CREATED:20231229T194646Z
LAST-MODIFIED:20231229T194747Z
UID:10007896-1757412000-1757415600@southshorepeerrecovery.org
SUMMARY:New Beginnings - Women's Book Discussion Group
DESCRIPTION:Currently: In Person & Online \n\n\n\nJoin Zoom meeting online by clicking this link on your phone or computer: https://zoom.us/j/194335786.  \n\n\n\nMeeting ID: 194 335 786.  PW: sspr.  \n\n\n\nOr dial in at (929) 205-6099. \n\n\n\nNew Beginnings – Women’s Book Discussion Group – South Shore Peer Recovery
URL:https://southshorepeerrecovery.org/event/new-beginnings-womens-book-discussion-group-3/2025-09-09/
LOCATION:South Shore Peer Recovery\, 51 Cole Parkway\, Scituate\, MA\, 02066\, United States
CATEGORIES:Drop-in,New Beginnings Women's Book Discussion,Virtual
END:VEVENT
BEGIN:VEVENT
DTSTART;TZID=America/New_York:20250909T190000
DTEND;TZID=America/New_York:20250909T200000
DTSTAMP:20260425T223139
CREATED:20221014T191535Z
LAST-MODIFIED:20221014T191545Z
UID:10008647-1757444400-1757448000@southshorepeerrecovery.org
SUMMARY:Refuge Recovery
DESCRIPTION:Click this link to join the evening ZOOM Meeting: \n\n\n\nhttps://zoom.us/j/317206426 \n\n\n\nOr call in: \n\n\n\n(929) 205-6099 \n\n\n\nMeeting ID: 317 206 426  PSW: sspr
URL:https://southshorepeerrecovery.org/event/refuge-recovery-2/2025-09-09/
LOCATION:South Shore Peer Recovery\, 51 Cole Parkway\, Scituate\, MA\, 02066\, United States
CATEGORIES:Drop-in,Refuge Recovery,Virtual
END:VEVENT
BEGIN:VEVENT
DTSTART;TZID=America/New_York:20250911T070000
DTEND;TZID=America/New_York:20250911T080000
DTSTAMP:20260425T223139
CREATED:20231229T194832Z
LAST-MODIFIED:20231229T194927Z
UID:10008157-1757574000-1757577600@southshorepeerrecovery.org
SUMMARY:Wake up and Walk
DESCRIPTION:Join our volunteers and community for a walk from the SSPR drop in center to the Scituate Lighthouse and back
URL:https://southshorepeerrecovery.org/event/wake-up-and-walk-4/2025-09-11/
LOCATION:South Shore Peer Recovery\, 51 Cole Parkway\, Scituate\, MA\, 02066\, United States
CATEGORIES:Drop-in
END:VEVENT
BEGIN:VEVENT
DTSTART;TZID=America/New_York:20250911T130000
DTEND;TZID=America/New_York:20250911T150000
DTSTAMP:20260425T223139
CREATED:20250313T202048Z
LAST-MODIFIED:20250313T202050Z
UID:10008935-1757595600-1757602800@southshorepeerrecovery.org
SUMMARY:Creative Community
DESCRIPTION:Peer drop in group for community interaction and creative expression to support recovery. Supplies\, prompts and inspiration provided. Guest instructors and artists regularly participate to facilitate guided workshops on different forms of art.
URL:https://southshorepeerrecovery.org/event/creative-community-5/2025-09-11/
LOCATION:South Shore Peer Recovery\, 51 Cole Parkway\, Scituate\, MA\, 02066\, United States
CATEGORIES:Creative Community,Drop-in
END:VEVENT
BEGIN:VEVENT
DTSTART;TZID=America/New_York:20250915T193000
DTEND;TZID=America/New_York:20250915T203000
DTSTAMP:20260425T223139
CREATED:20231229T194533Z
LAST-MODIFIED:20260205T205220Z
UID:10007636-1757964600-1757968200@southshorepeerrecovery.org
SUMMARY:AA: Scituate Young People
DESCRIPTION:Currently: In Person and Remote Group \n\n\n\nWelcome AABoston.org Central Service Committee of Eastern Mass. (Intergroup) \n\n\n\nAlcoholics Anonymous Meeting Information\n\n\n\nMonday\, 7:30 pm to 8:30 pm \n\n\n\n\n Discussion (D)\n\n\n\n Online Meeting\n\n\n\n Open (O)\n\n\n\n Speaker (S)\n\n\n\n Young People (YP)\n\n\n\n\nThis meeting is open and anyone may attend. \n\n\n\nJoin Zoom meeting online by clicking this link on your phone or computer \n\n\n\nhttps://zoom.us/j/99175276534 \n\n\n\nMeeting ID: 317 206 426. PW: sspr \n\n\n\nOr dial in at (929) 205-6099.
URL:https://southshorepeerrecovery.org/event/aa-scituate-young-people/2025-09-15/
LOCATION:South Shore Peer Recovery\, 51 Cole Parkway\, Scituate\, MA\, 02066\, United States
CATEGORIES:Alcoholics Anonymous,Drop-in,Virtual
END:VEVENT
BEGIN:VEVENT
DTSTART;TZID=America/New_York:20250916T100000
DTEND;TZID=America/New_York:20250916T110000
DTSTAMP:20260425T223139
CREATED:20231229T194646Z
LAST-MODIFIED:20231229T194747Z
UID:10007897-1758016800-1758020400@southshorepeerrecovery.org
SUMMARY:New Beginnings - Women's Book Discussion Group
DESCRIPTION:Currently: In Person & Online \n\n\n\nJoin Zoom meeting online by clicking this link on your phone or computer: https://zoom.us/j/194335786.  \n\n\n\nMeeting ID: 194 335 786.  PW: sspr.  \n\n\n\nOr dial in at (929) 205-6099. \n\n\n\nNew Beginnings – Women’s Book Discussion Group – South Shore Peer Recovery
URL:https://southshorepeerrecovery.org/event/new-beginnings-womens-book-discussion-group-3/2025-09-16/
LOCATION:South Shore Peer Recovery\, 51 Cole Parkway\, Scituate\, MA\, 02066\, United States
CATEGORIES:Drop-in,New Beginnings Women's Book Discussion,Virtual
END:VEVENT
BEGIN:VEVENT
DTSTART;TZID=America/New_York:20250916T190000
DTEND;TZID=America/New_York:20250916T200000
DTSTAMP:20260425T223139
CREATED:20221014T191535Z
LAST-MODIFIED:20221014T191545Z
UID:10008648-1758049200-1758052800@southshorepeerrecovery.org
SUMMARY:Refuge Recovery
DESCRIPTION:Click this link to join the evening ZOOM Meeting: \n\n\n\nhttps://zoom.us/j/317206426 \n\n\n\nOr call in: \n\n\n\n(929) 205-6099 \n\n\n\nMeeting ID: 317 206 426  PSW: sspr
URL:https://southshorepeerrecovery.org/event/refuge-recovery-2/2025-09-16/
LOCATION:South Shore Peer Recovery\, 51 Cole Parkway\, Scituate\, MA\, 02066\, United States
CATEGORIES:Drop-in,Refuge Recovery,Virtual
END:VEVENT
BEGIN:VEVENT
DTSTART;TZID=America/New_York:20250918T070000
DTEND;TZID=America/New_York:20250918T080000
DTSTAMP:20260425T223139
CREATED:20231229T194832Z
LAST-MODIFIED:20231229T194927Z
UID:10008158-1758178800-1758182400@southshorepeerrecovery.org
SUMMARY:Wake up and Walk
DESCRIPTION:Join our volunteers and community for a walk from the SSPR drop in center to the Scituate Lighthouse and back
URL:https://southshorepeerrecovery.org/event/wake-up-and-walk-4/2025-09-18/
LOCATION:South Shore Peer Recovery\, 51 Cole Parkway\, Scituate\, MA\, 02066\, United States
CATEGORIES:Drop-in
END:VEVENT
BEGIN:VEVENT
DTSTART;TZID=America/New_York:20250918T130000
DTEND;TZID=America/New_York:20250918T150000
DTSTAMP:20260425T223140
CREATED:20250313T202048Z
LAST-MODIFIED:20250313T202050Z
UID:10008936-1758200400-1758207600@southshorepeerrecovery.org
SUMMARY:Creative Community
DESCRIPTION:Peer drop in group for community interaction and creative expression to support recovery. Supplies\, prompts and inspiration provided. Guest instructors and artists regularly participate to facilitate guided workshops on different forms of art.
URL:https://southshorepeerrecovery.org/event/creative-community-5/2025-09-18/
LOCATION:South Shore Peer Recovery\, 51 Cole Parkway\, Scituate\, MA\, 02066\, United States
CATEGORIES:Creative Community,Drop-in
END:VEVENT
BEGIN:VEVENT
DTSTART;TZID=America/New_York:20250922T193000
DTEND;TZID=America/New_York:20250922T203000
DTSTAMP:20260425T223140
CREATED:20231229T194533Z
LAST-MODIFIED:20260205T205220Z
UID:10007637-1758569400-1758573000@southshorepeerrecovery.org
SUMMARY:AA: Scituate Young People
DESCRIPTION:Currently: In Person and Remote Group \n\n\n\nWelcome AABoston.org Central Service Committee of Eastern Mass. (Intergroup) \n\n\n\nAlcoholics Anonymous Meeting Information\n\n\n\nMonday\, 7:30 pm to 8:30 pm \n\n\n\n\n Discussion (D)\n\n\n\n Online Meeting\n\n\n\n Open (O)\n\n\n\n Speaker (S)\n\n\n\n Young People (YP)\n\n\n\n\nThis meeting is open and anyone may attend. \n\n\n\nJoin Zoom meeting online by clicking this link on your phone or computer \n\n\n\nhttps://zoom.us/j/99175276534 \n\n\n\nMeeting ID: 317 206 426. PW: sspr \n\n\n\nOr dial in at (929) 205-6099.
URL:https://southshorepeerrecovery.org/event/aa-scituate-young-people/2025-09-22/
LOCATION:South Shore Peer Recovery\, 51 Cole Parkway\, Scituate\, MA\, 02066\, United States
CATEGORIES:Alcoholics Anonymous,Drop-in,Virtual
END:VEVENT
BEGIN:VEVENT
DTSTART;TZID=America/New_York:20250923T100000
DTEND;TZID=America/New_York:20250923T110000
DTSTAMP:20260425T223140
CREATED:20231229T194646Z
LAST-MODIFIED:20231229T194747Z
UID:10007898-1758621600-1758625200@southshorepeerrecovery.org
SUMMARY:New Beginnings - Women's Book Discussion Group
DESCRIPTION:Currently: In Person & Online \n\n\n\nJoin Zoom meeting online by clicking this link on your phone or computer: https://zoom.us/j/194335786.  \n\n\n\nMeeting ID: 194 335 786.  PW: sspr.  \n\n\n\nOr dial in at (929) 205-6099. \n\n\n\nNew Beginnings – Women’s Book Discussion Group – South Shore Peer Recovery
URL:https://southshorepeerrecovery.org/event/new-beginnings-womens-book-discussion-group-3/2025-09-23/
LOCATION:South Shore Peer Recovery\, 51 Cole Parkway\, Scituate\, MA\, 02066\, United States
CATEGORIES:Drop-in,New Beginnings Women's Book Discussion,Virtual
END:VEVENT
BEGIN:VEVENT
DTSTART;TZID=America/New_York:20250923T190000
DTEND;TZID=America/New_York:20250923T200000
DTSTAMP:20260425T223140
CREATED:20221014T191535Z
LAST-MODIFIED:20221014T191545Z
UID:10008649-1758654000-1758657600@southshorepeerrecovery.org
SUMMARY:Refuge Recovery
DESCRIPTION:Click this link to join the evening ZOOM Meeting: \n\n\n\nhttps://zoom.us/j/317206426 \n\n\n\nOr call in: \n\n\n\n(929) 205-6099 \n\n\n\nMeeting ID: 317 206 426  PSW: sspr
URL:https://southshorepeerrecovery.org/event/refuge-recovery-2/2025-09-23/
LOCATION:South Shore Peer Recovery\, 51 Cole Parkway\, Scituate\, MA\, 02066\, United States
CATEGORIES:Drop-in,Refuge Recovery,Virtual
END:VEVENT
BEGIN:VEVENT
DTSTART;TZID=America/New_York:20250925T070000
DTEND;TZID=America/New_York:20250925T080000
DTSTAMP:20260425T223140
CREATED:20231229T194832Z
LAST-MODIFIED:20231229T194927Z
UID:10008159-1758783600-1758787200@southshorepeerrecovery.org
SUMMARY:Wake up and Walk
DESCRIPTION:Join our volunteers and community for a walk from the SSPR drop in center to the Scituate Lighthouse and back
URL:https://southshorepeerrecovery.org/event/wake-up-and-walk-4/2025-09-25/
LOCATION:South Shore Peer Recovery\, 51 Cole Parkway\, Scituate\, MA\, 02066\, United States
CATEGORIES:Drop-in
END:VEVENT
BEGIN:VEVENT
DTSTART;TZID=America/New_York:20250925T130000
DTEND;TZID=America/New_York:20250925T150000
DTSTAMP:20260425T223140
CREATED:20250313T202048Z
LAST-MODIFIED:20250313T202050Z
UID:10008937-1758805200-1758812400@southshorepeerrecovery.org
SUMMARY:Creative Community
DESCRIPTION:Peer drop in group for community interaction and creative expression to support recovery. Supplies\, prompts and inspiration provided. Guest instructors and artists regularly participate to facilitate guided workshops on different forms of art.
URL:https://southshorepeerrecovery.org/event/creative-community-5/2025-09-25/
LOCATION:South Shore Peer Recovery\, 51 Cole Parkway\, Scituate\, MA\, 02066\, United States
CATEGORIES:Creative Community,Drop-in
END:VEVENT
BEGIN:VEVENT
DTSTART;TZID=America/New_York:20250929T193000
DTEND;TZID=America/New_York:20250929T203000
DTSTAMP:20260425T223140
CREATED:20231229T194533Z
LAST-MODIFIED:20260205T205220Z
UID:10007638-1759174200-1759177800@southshorepeerrecovery.org
SUMMARY:AA: Scituate Young People
DESCRIPTION:Currently: In Person and Remote Group \n\n\n\nWelcome AABoston.org Central Service Committee of Eastern Mass. (Intergroup) \n\n\n\nAlcoholics Anonymous Meeting Information\n\n\n\nMonday\, 7:30 pm to 8:30 pm \n\n\n\n\n Discussion (D)\n\n\n\n Online Meeting\n\n\n\n Open (O)\n\n\n\n Speaker (S)\n\n\n\n Young People (YP)\n\n\n\n\nThis meeting is open and anyone may attend. \n\n\n\nJoin Zoom meeting online by clicking this link on your phone or computer \n\n\n\nhttps://zoom.us/j/99175276534 \n\n\n\nMeeting ID: 317 206 426. PW: sspr \n\n\n\nOr dial in at (929) 205-6099.
URL:https://southshorepeerrecovery.org/event/aa-scituate-young-people/2025-09-29/
LOCATION:South Shore Peer Recovery\, 51 Cole Parkway\, Scituate\, MA\, 02066\, United States
CATEGORIES:Alcoholics Anonymous,Drop-in,Virtual
END:VEVENT
BEGIN:VEVENT
DTSTART;TZID=America/New_York:20250930T100000
DTEND;TZID=America/New_York:20250930T110000
DTSTAMP:20260425T223140
CREATED:20231229T194646Z
LAST-MODIFIED:20231229T194747Z
UID:10007899-1759226400-1759230000@southshorepeerrecovery.org
SUMMARY:New Beginnings - Women's Book Discussion Group
DESCRIPTION:Currently: In Person & Online \n\n\n\nJoin Zoom meeting online by clicking this link on your phone or computer: https://zoom.us/j/194335786.  \n\n\n\nMeeting ID: 194 335 786.  PW: sspr.  \n\n\n\nOr dial in at (929) 205-6099. \n\n\n\nNew Beginnings – Women’s Book Discussion Group – South Shore Peer Recovery
URL:https://southshorepeerrecovery.org/event/new-beginnings-womens-book-discussion-group-3/2025-09-30/
LOCATION:South Shore Peer Recovery\, 51 Cole Parkway\, Scituate\, MA\, 02066\, United States
CATEGORIES:Drop-in,New Beginnings Women's Book Discussion,Virtual
END:VEVENT
BEGIN:VEVENT
DTSTART;TZID=America/New_York:20250930T190000
DTEND;TZID=America/New_York:20250930T200000
DTSTAMP:20260425T223140
CREATED:20221014T191535Z
LAST-MODIFIED:20221014T191545Z
UID:10008650-1759258800-1759262400@southshorepeerrecovery.org
SUMMARY:Refuge Recovery
DESCRIPTION:Click this link to join the evening ZOOM Meeting: \n\n\n\nhttps://zoom.us/j/317206426 \n\n\n\nOr call in: \n\n\n\n(929) 205-6099 \n\n\n\nMeeting ID: 317 206 426  PSW: sspr
URL:https://southshorepeerrecovery.org/event/refuge-recovery-2/2025-09-30/
LOCATION:South Shore Peer Recovery\, 51 Cole Parkway\, Scituate\, MA\, 02066\, United States
CATEGORIES:Drop-in,Refuge Recovery,Virtual
END:VEVENT
END:VCALENDAR