BEGIN:VCALENDAR
VERSION:2.0
PRODID:-//South Shore Peer Recovery - ECPv6.15.20//NONSGML v1.0//EN
CALSCALE:GREGORIAN
METHOD:PUBLISH
X-WR-CALNAME:South Shore Peer Recovery
X-ORIGINAL-URL:https://southshorepeerrecovery.org
X-WR-CALDESC:Events for South Shore Peer Recovery
REFRESH-INTERVAL;VALUE=DURATION:PT1H
X-Robots-Tag:noindex
X-PUBLISHED-TTL:PT1H
BEGIN:VTIMEZONE
TZID:America/New_York
BEGIN:DAYLIGHT
TZOFFSETFROM:-0500
TZOFFSETTO:-0400
TZNAME:EDT
DTSTART:20200308T070000
END:DAYLIGHT
BEGIN:STANDARD
TZOFFSETFROM:-0400
TZOFFSETTO:-0500
TZNAME:EST
DTSTART:20201101T060000
END:STANDARD
BEGIN:DAYLIGHT
TZOFFSETFROM:-0500
TZOFFSETTO:-0400
TZNAME:EDT
DTSTART:20210314T070000
END:DAYLIGHT
BEGIN:STANDARD
TZOFFSETFROM:-0400
TZOFFSETTO:-0500
TZNAME:EST
DTSTART:20211107T060000
END:STANDARD
BEGIN:DAYLIGHT
TZOFFSETFROM:-0500
TZOFFSETTO:-0400
TZNAME:EDT
DTSTART:20220313T070000
END:DAYLIGHT
BEGIN:STANDARD
TZOFFSETFROM:-0400
TZOFFSETTO:-0500
TZNAME:EST
DTSTART:20221106T060000
END:STANDARD
BEGIN:DAYLIGHT
TZOFFSETFROM:-0500
TZOFFSETTO:-0400
TZNAME:EDT
DTSTART:20230312T070000
END:DAYLIGHT
BEGIN:STANDARD
TZOFFSETFROM:-0400
TZOFFSETTO:-0500
TZNAME:EST
DTSTART:20231105T060000
END:STANDARD
BEGIN:DAYLIGHT
TZOFFSETFROM:-0500
TZOFFSETTO:-0400
TZNAME:EDT
DTSTART:20240310T070000
END:DAYLIGHT
BEGIN:STANDARD
TZOFFSETFROM:-0400
TZOFFSETTO:-0500
TZNAME:EST
DTSTART:20241103T060000
END:STANDARD
END:VTIMEZONE
BEGIN:VEVENT
DTSTART;TZID=America/New_York:20230908T173000
DTEND;TZID=America/New_York:20230908T213000
DTSTAMP:20260426T002919
CREATED:20230829T180854Z
LAST-MODIFIED:20230829T180855Z
UID:10007101-1694194200-1694208600@southshorepeerrecovery.org
SUMMARY:Recovery Rocks
DESCRIPTION:Recovery Rocks is our major annual fundraiser that brings together individuals and families in recovery\, local musicians and the community to support our amazing cause. A night of hope\, community\, connection and fun\, Recovery Rocks has grown into a celebration of recovery. 
URL:https://southshorepeerrecovery.org/event/recovery-rocks-3/
LOCATION:Salt River Farm\, 857 Union St\, Marshfield\, MA\, 02050
END:VEVENT
BEGIN:VEVENT
DTSTART;TZID=America/New_York:20220909T180000
DTEND;TZID=America/New_York:20220909T220000
DTSTAMP:20260426T002919
CREATED:20220818T160244Z
LAST-MODIFIED:20220818T160548Z
UID:10005799-1662746400-1662760800@southshorepeerrecovery.org
SUMMARY:Recovery Rocks 2022!
DESCRIPTION:Recovery Rocks is our major annual fundraiser that brings together individuals and families in recovery\, local musicians and the community to support our amazing cause. A night of hope\, community\, connection and fun\, Recovery Rocks has grown into a celebration of recovery. From humble beginnings this event has grown annually to include more than 500 guests. \n\n\n\nMore than half of our annual budget is dependent on fundraising and Recovery Rocks meets 80 percent of that need – all dollars raised go directly to adding recovery supports at SSPR. We are working to continually expand our offerings and reach more communities. \n\n\n\nDespite the rain\, last year was an amazing success at a beautiful new location. We look forward to bringing the celebration back to the Salt River Farm in Marshfield on Friday September 9th! \n\n\n\nFor more information and sponsorship opportunities please visit Recovery Rocks! – South Shore Peer Recovery
URL:https://southshorepeerrecovery.org/event/recovery-rocks-2022/
LOCATION:Salt River Farm\, 857 Union St\, Marshfield\, MA\, 02050
END:VEVENT
BEGIN:VEVENT
DTSTART;TZID=America/New_York:20210909T180000
DTEND;TZID=America/New_York:20210909T220000
DTSTAMP:20260426T002919
CREATED:20210827T170322Z
LAST-MODIFIED:20210827T170322Z
UID:10005377-1631210400-1631224800@southshorepeerrecovery.org
SUMMARY:Recovery Rocks
DESCRIPTION:Recovery Rocks 2021\nThursday\, September 9th 6-10PM\nSalt River Farm\, 857 Union St. Marshfield MA 02050\nParking is available. Night of details will be provided the week prior to the event! \nTickets are limited\, purchase below. \nWhat’s included in your ticket? \nMusic: Join our returning friends\, Border Road\, and our new edition\, Neighbor\, for an amazing night of live music on the South Shore! \nFood and beverages: A variety of food and beverage options will be available from our local vendors: Montilio’s\, Mullaney’s Fish Market\, Stars on Hingham Harbor & Nona’s Homemade Ice Cream. \nT Shirts: Our signature Recovery Rocks T Shirt is included with the purchase of your ticket!
URL:https://southshorepeerrecovery.org/event/recovery-rocks-2/
LOCATION:Salt River Farm\, 857 Union St\, Marshfield\, MA\, 02050
END:VEVENT
END:VCALENDAR